BEGIN:VCALENDAR
VERSION:2.0
PRODID:-//hacksw/handcal//NONSGML v1.0//EN
BEGIN:VEVENT
SUMMARY:Rentrez a l’interieur
UID:ac77791b-22cc-44d1-a855-8c5ac1cf39ae
DTSTART:20260418T220000Z
DTEND:20260419T220000Z
LOCATION:Localisation   
CATEGORIES:Entrainement
STATUS:
URL;VALUE=URI:https://www.fcdombasle.org/evenements/2026/04/19/rentrez-a-linterieur-2442901
END:VEVENT
END:VCALENDAR
