BEGIN:VCALENDAR
VERSION:2.0
PRODID:-//hacksw/handcal//NONSGML v1.0//EN
BEGIN:VEVENT
SUMMARY:1 dimanche, 3 demi-finales
UID:3a1b85f7-adc0-497e-8de6-55fa040842a1
DTSTART:20260418T220000Z
DTEND:20260419T220000Z
LOCATION:Localisation   
CATEGORIES:Sportif
STATUS:
DESCRIPTION:<p>Un dimanche pas comme les autres s’annonce, place
 sous le signe du football et de la passion. Trois rendez-vous, trois
 enjeux, une meme determination : defendre ses couleurs et aller
 chercher une place en finale.</p><p>Des les premiers coups de
 sifflet, les equipes entreront en scene avec l’envie de marquer les
 esprits. Entre intensite, solidarite et moments decisifs, chaque
 rencontre promet son lot d’emotions. Les supporters, eux,
 repondront presents pour pousser leurs joueurs et joueuses jusqu’au
 bout.</p><p>Pour nos equipes Seniors garcons et feminines, une seule
 mission : tout donner sur le terrain. Trois demi-finales, trois
 batailles… et peut-etre trois reves de trophee qui se
 prolongent.</p><p>Alors rendez-vous demain a Pavageau pour soutenir
 nos Seniors garcons, ou a Pulnoy ou nos Seniors Feminines pourraient
 elles aussi ecrire une nouvelle page de l’histoire du FCD et de sa
 section feminine.</p>
URL;VALUE=URI:https://www.fcdombasle.org/evenements/2026/04/19/1-dimanche-3-demi-finales-2442680
END:VEVENT
END:VCALENDAR
