BEGIN:VCALENDAR
VERSION:2.0
PRODID:-//hacksw/handcal//NONSGML v1.0//EN
BEGIN:VEVENT
SUMMARY:Entrainement seniors B
UID:bf4bc8e4-a501-4b69-b507-e4344d59faf6
DTSTART:20260416T170000Z
DTEND:20260416T190000Z
LOCATION:Localisation   
CATEGORIES:Sportif
STATUS:
URL;VALUE=URI:https://www.fcdombasle.org/evenements/2026/04/16/entrainement-seniors-b-2441460
END:VEVENT
END:VCALENDAR
