BEGIN:VCALENDAR
VERSION:2.0
PRODID:-//hacksw/handcal//NONSGML v1.0//EN
BEGIN:VEVENT
SUMMARY:Entrainement Seniors/U18
UID:30c21032-8c52-4377-85d4-618d66ac31cb
DTSTART:20260414T171500Z
DTEND:20260414T190000Z
LOCATION:Stade Pavageau Avenue du General Leclerc 54110 DOMBASLE SUR MEURTHE
CATEGORIES:Entrainement
STATUS:
URL;VALUE=URI:https://www.fcdombasle.org/evenements/2026/04/14/entrainement-seniorsu18-2440761
END:VEVENT
END:VCALENDAR
