BEGIN:VCALENDAR
VERSION:2.0
PRODID:-//hacksw/handcal//NONSGML v1.0//EN
BEGIN:VEVENT
SUMMARY:Seniors C contre Marainviller match a Laneuveville aux Bois coup d'envoi 15h.RDV 14h sur place ou 13h30 a dombasle pour covoiturage
UID:e4ab7373-e1c1-48ad-8d4f-31fc326dd9be
DTSTART:20260412T120000Z
DTEND:20260412T153000Z
LOCATION:Localisation   
CATEGORIES:Sportif
STATUS:
URL;VALUE=URI:https://www.fcdombasle.org/evenements/2026/04/12/seniors-c-contre-marainviller-match-a-laneuveville-aux-bois-coup-denvoi-15hrdv-14h-sur-place-ou-13h30-a-dombasle-pour-covoiturage-2440099
END:VEVENT
END:VCALENDAR
