BEGIN:VCALENDAR
VERSION:2.0
PRODID:-//hacksw/handcal//NONSGML v1.0//EN
BEGIN:VEVENT
SUMMARY:Match seniors B contre rehainviller rdv 14h
UID:1aa65f7a-96b1-4d5e-b1d3-a1a7f013f2da
DTSTART:20260412T120000Z
DTEND:20260412T160000Z
LOCATION:Localisation   
CATEGORIES:Sportif
STATUS:
URL;VALUE=URI:https://www.fcdombasle.org/evenements/2026/04/12/match-seniors-b-contre-rehainviller-rdv-14h-2440153
END:VEVENT
END:VCALENDAR
