BEGIN:VCALENDAR
VERSION:2.0
PRODID:-//hacksw/handcal//NONSGML v1.0//EN
BEGIN:VEVENT
SUMMARY:Championnat a Blamont
UID:338f8db8-ebb9-4039-b617-3389999a7015
DTSTART:20260412T110000Z
DTEND:20260412T153000Z
LOCATION:Localisation   
CATEGORIES:Sportif
STATUS:
URL;VALUE=URI:https://www.fcdombasle.org/evenements/2026/04/12/championnat-a-blamont-2440028
END:VEVENT
END:VCALENDAR
