BEGIN:VCALENDAR
VERSION:2.0
PRODID:-//hacksw/handcal//NONSGML v1.0//EN
BEGIN:VEVENT
SUMMARY:CONVOCATIONS INTERCLUBS U10/U11
UID:1519f2d3-4d4b-4721-8456-c06998df20bf
DTSTART:20260411T071500Z
DTEND:20260411T100000Z
LOCATION:Localisation   
CATEGORIES:Sportif
STATUS:
URL;VALUE=URI:https://www.fcdombasle.org/evenements/2026/04/11/convocations-interclubs-u10u11-2439737
END:VEVENT
END:VCALENDAR
