BEGIN:VCALENDAR
VERSION:2.0
PRODID:-//hacksw/handcal//NONSGML v1.0//EN
BEGIN:VEVENT
SUMMARY:Convocation Championnat U15 R2 a Sarreguemines
UID:5837c7bb-b5c2-41e5-90a6-98b80de48259
DTSTART:20260411T104500Z
DTEND:20260411T220000Z
LOCATION:Localisation   
CATEGORIES:Sportif
STATUS:
DESCRIPTION:<p>Rendez-vous 12h45 directement a Sarreguemines ou 11h a
 la place (6 places dans la camionnette).</p>
 
 <p>Coup d'envoi
 14h00. </p>
 
 <p>Possibilite de manger sur le trajet
 (proprement).</p>
 
 <p> </p>
 
 <p>STADE DES FAIENCERIES</p>
 
 <p>RUE
 EDOUARD JAUNEZ</p>
 
 <p>57200 SARREGUEMINES</p>
URL;VALUE=URI:https://www.fcdombasle.org/evenements/2026/04/11/convocation-championnat-u15-r2-a-sarreguemines-2439858
END:VEVENT
END:VCALENDAR
