BEGIN:VCALENDAR
VERSION:2.0
PRODID:-//hacksw/handcal//NONSGML v1.0//EN
BEGIN:VEVENT
SUMMARY:Convocation Championnat c/Laneu. Marainviller
UID:8fb9a825-e1b8-47c3-a342-9c0e0c317769
DTSTART:20260411T103000Z
DTEND:20260411T131500Z
LOCATION:Localisation   
CATEGORIES:Sportif
STATUS:
DESCRIPTION:Rdv 12h40 aux nouveaux
 vestiaires. <div><br></div><div>Chaussettes de matchs,
 proteges-tibias et douche
 OBLIGATOIRE. </div><div><br></div><div>Coup d'envoi 13h45. Terrain
 synthetique. </div>
URL;VALUE=URI:https://www.fcdombasle.org/evenements/2026/04/11/convocation-championnat-claneu-marainviller-2439797
END:VEVENT
END:VCALENDAR
