BEGIN:VCALENDAR
VERSION:2.0
PRODID:-//hacksw/handcal//NONSGML v1.0//EN
BEGIN:VEVENT
SUMMARY:Entrainement BC
UID:20893fb8-b770-4208-861e-3bb554c89a04
DTSTART:20260409T170000Z
DTEND:20260409T190000Z
LOCATION:Localisation   
CATEGORIES:Sportif
STATUS:
URL;VALUE=URI:https://www.fcdombasle.org/evenements/2026/04/09/entrainement-bc-2439304
END:VEVENT
END:VCALENDAR
