BEGIN:VCALENDAR
VERSION:2.0
PRODID:-//hacksw/handcal//NONSGML v1.0//EN
BEGIN:VEVENT
SUMMARY:Entrainement U6/U7
UID:42e28a43-59c5-44a5-8212-f0a749e6eab1
DTSTART:20260408T133000Z
DTEND:20260408T144500Z
LOCATION:Localisation   
CATEGORIES:Sportif
STATUS:
URL;VALUE=URI:https://www.fcdombasle.org/evenements/2026/04/08/entrainement-u6u7-2438673
END:VEVENT
END:VCALENDAR
