BEGIN:VCALENDAR
VERSION:2.0
PRODID:-//hacksw/handcal//NONSGML v1.0//EN
BEGIN:VEVENT
SUMMARY:Entrainement BC
UID:2f489b10-a454-40d7-9b5e-d630f5dc1af7
DTSTART:20260402T170000Z
DTEND:20260402T190000Z
LOCATION:Localisation   
CATEGORIES:Sportif
STATUS:
URL;VALUE=URI:https://www.fcdombasle.org/evenements/2026/04/02/entrainement-bc-2436527
END:VEVENT
END:VCALENDAR
