BEGIN:VCALENDAR
VERSION:2.0
PRODID:-//hacksw/handcal//NONSGML v1.0//EN
BEGIN:VEVENT
SUMMARY:Seniors C Championnat contre Saint-Clement coup d'envoi 12h30 rdv 11h30
UID:7169713b-f2d6-4f5a-b6b8-d75d7da9f025
DTSTART:20260329T093000Z
DTEND:20260329T143000Z
LOCATION:Localisation   
CATEGORIES:Sportif
STATUS:
URL;VALUE=URI:https://www.fcdombasle.org/evenements/2026/03/29/seniors-c-championnat-contre-saint-clement-coup-denvoi-12h30-rdv-11h30-2434235
END:VEVENT
END:VCALENDAR
