BEGIN:VCALENDAR
VERSION:2.0
PRODID:-//hacksw/handcal//NONSGML v1.0//EN
BEGIN:VEVENT
SUMMARY:Match seniors B contre Luneville turc
UID:780fa68b-a692-43a5-bf6b-512565df0cb2
DTSTART:20260329T113000Z
DTEND:20260329T150000Z
LOCATION:Localisation   
CATEGORIES:Sportif
STATUS:
URL;VALUE=URI:https://www.fcdombasle.org/evenements/2026/03/29/match-seniors-b-contre-luneville-turc-2434112
END:VEVENT
END:VCALENDAR
