BEGIN:VCALENDAR
VERSION:2.0
PRODID:-//hacksw/handcal//NONSGML v1.0//EN
BEGIN:VEVENT
SUMMARY:Convocation U15 D1 championnat a FC Luneville
UID:b7aacad9-9272-46c8-839f-1242bd487da2
DTSTART:20260328T124500Z
DTEND:20260328T154500Z
LOCATION:Localisation   
CATEGORIES:Sportif
STATUS:
DESCRIPTION:Rdv a 13h45 au stade Edouard Fenal, rue du Docteur Khan,
 54300 Luneville. <div><br></div><div>Covoiturage : rdv 13h20, depart
 13h25 de la place de la
 republique. </div><div><br></div><div>Chaussettes de matchs,
 proteges-tibias et affaires de douches
 OBLIGATOIRE. </div><div><br></div><div>Terrain herbe, coup d'envoi
 15h. </div>
URL;VALUE=URI:https://www.fcdombasle.org/evenements/2026/03/28/convocation-u15-d1-championnat-a-fc-luneville-2433665
END:VEVENT
END:VCALENDAR
